BEGIN:VCALENDAR
VERSION:2.0
PRODID:-//Gepa Rhône-Alpes - formation des architectes - site officiel - ECPv4.9.14//NONSGML v1.0//EN
CALSCALE:GREGORIAN
METHOD:PUBLISH
X-WR-CALNAME:Gepa Rhône-Alpes - formation des architectes - site officiel
X-ORIGINAL-URL:https://www.gepa-ra.com
X-WR-CALDESC:Évènements pour Gepa Rhône-Alpes - formation des architectes - site officiel
BEGIN:VTIMEZONE
TZID:Europe/Paris
BEGIN:DAYLIGHT
TZOFFSETFROM:+0100
TZOFFSETTO:+0200
TZNAME:CEST
DTSTART:20230326T010000
END:DAYLIGHT
BEGIN:STANDARD
TZOFFSETFROM:+0200
TZOFFSETTO:+0100
TZNAME:CET
DTSTART:20231029T010000
END:STANDARD
END:VTIMEZONE
BEGIN:VEVENT
DTSTART;TZID=Europe/Paris:20230314T090000
DTEND;TZID=Europe/Paris:20230315T180000
DTSTAMP:20260425T232602
CREATED:20220909T142251Z
LAST-MODIFIED:20230126T171456Z
UID:3807-1678784400-1678903200@www.gepa-ra.com
SUMMARY:L'économie circulaire dans le bâtiment : Approfondir\, s’outiller et s’inspirer
DESCRIPTION:Formation de 2 jours les 14 et 15 mars 2023\n En savoir plus sur cette formation\n Prendre contact avec le GEPA National\n
URL:https://www.gepa-ra.com/agenda/economie-circulaire-dans-le-batiment-approfondir/
LOCATION:GEPA Rhône-Alpes\, 5\, avenue de Birmingham\, Lyon\, 69004
CATEGORIES:economie circulaire
ORGANIZER;CN="GEPA%20national":MAILTO:gepa@formation-architecte.com
END:VEVENT
END:VCALENDAR