BEGIN:VCALENDAR
VERSION:2.0
PRODID:-//Gepa Rhône-Alpes - formation des architectes - site officiel - ECPv4.9.14//NONSGML v1.0//EN
CALSCALE:GREGORIAN
METHOD:PUBLISH
X-WR-CALNAME:Gepa Rhône-Alpes - formation des architectes - site officiel
X-ORIGINAL-URL:https://www.gepa-ra.com
X-WR-CALDESC:Évènements pour Gepa Rhône-Alpes - formation des architectes - site officiel
BEGIN:VTIMEZONE
TZID:Europe/Paris
BEGIN:DAYLIGHT
TZOFFSETFROM:+0100
TZOFFSETTO:+0200
TZNAME:CEST
DTSTART:20190331T010000
END:DAYLIGHT
BEGIN:STANDARD
TZOFFSETFROM:+0200
TZOFFSETTO:+0100
TZNAME:CET
DTSTART:20191027T010000
END:STANDARD
END:VTIMEZONE
BEGIN:VEVENT
DTSTART;TZID=Europe/Paris:20190625T080000
DTEND;TZID=Europe/Paris:20190626T180000
DTSTAMP:20260420T233847
CREATED:20190124T163743Z
LAST-MODIFIED:20190124T171945Z
UID:2982-1561449600-1561572000@www.gepa-ra.com
SUMMARY:Gestion administrative d’une agence d’architecture
DESCRIPTION:Stage de 2 jours\n En savoir plus sur cette formation\n Prendre contact avec le GEPA National\n
URL:https://www.gepa-ra.com/agenda/gestion-administrative-dune-agence-darchitecture/
LOCATION:GEPA Rhône-Alpes\, 5\, avenue de Birmingham\, Lyon\, 69004
CATEGORIES:agence architecture
ORGANIZER;CN="GEPA%20Rhone%20Alpes":MAILTO:geparhonealpes@orange.fr
END:VEVENT
END:VCALENDAR