BEGIN:VCALENDAR
VERSION:2.0
PRODID:-//Gepa Rhône-Alpes - formation des architectes - site officiel - ECPv4.9.14//NONSGML v1.0//EN
CALSCALE:GREGORIAN
METHOD:PUBLISH
X-WR-CALNAME:Gepa Rhône-Alpes - formation des architectes - site officiel
X-ORIGINAL-URL:https://www.gepa-ra.com
X-WR-CALDESC:Évènements pour Gepa Rhône-Alpes - formation des architectes - site officiel
BEGIN:VTIMEZONE
TZID:Europe/Paris
BEGIN:DAYLIGHT
TZOFFSETFROM:+0100
TZOFFSETTO:+0200
TZNAME:CEST
DTSTART:20190331T010000
END:DAYLIGHT
BEGIN:STANDARD
TZOFFSETFROM:+0200
TZOFFSETTO:+0100
TZNAME:CET
DTSTART:20191027T010000
END:STANDARD
END:VTIMEZONE
BEGIN:VEVENT
DTSTART;TZID=Europe/Paris:20191212T080000
DTEND;TZID=Europe/Paris:20191213T190000
DTSTAMP:20260420T232525
CREATED:20190710T090829Z
LAST-MODIFIED:20190710T090904Z
UID:3210-1576137600-1576263600@www.gepa-ra.com
SUMMARY:Matériaux éco-sourcé : Terre
DESCRIPTION:Stage de 2 jours les 12 et 13 Décembre\n En savoir plus sur cette formation\n Prendre contact avec le GEPA National\n
URL:https://www.gepa-ra.com/agenda/materiaux-eco-source-terre/
LOCATION:GEPA Rhône-Alpes\, 5\, avenue de Birmingham\, Lyon\, 69004
CATEGORIES:Construire en terre
ORGANIZER;CN="GEPA%20national":MAILTO:gepa@formation-architecte.com
END:VEVENT
END:VCALENDAR